BEGIN:VCALENDAR
VERSION:2.0
PRODID:-//wp-events-plugin.com//7.2.3.1//EN
TZID:Europe/Madrid
X-WR-TIMEZONE:Europe/Madrid
BEGIN:VEVENT
UID:5@emipac.org
DTSTART:20191108T093000Z
DTEND:20191108T140000Z
DTSTAMP:20191027T095425Z
URL:https://emipac.org/events/jornada-tecnica/
SUMMARY:JORNADA TÈCNICA
DESCRIPTION:
END:VEVENT
END:VCALENDAR